BEGIN:VCALENDAR
VERSION:2.0
PRODID:-//ChamberMaster//Event Calendar 2.0//EN
METHOD:PUBLISH
X-PUBLISHED-TTL:P3D
REFRESH-INTERVAL:P3D
CALSCALE:GREGORIAN
BEGIN:VEVENT
DTSTART:20191221T020000Z
DTEND:20191221T034500Z
X-MICROSOFT-CDO-ALLDAYEVENT:FALSE
SUMMARY:Themed Skate Night: Ugly Sweater
DESCRIPTION:Show your Christmas Spirit with us at our Ugly Sweater themed Skate Night! Bring your tackiest\, ugliest\, or gaudiest sweater (or just your coziest\, we won't judge) Admission plus $4.00 skate ticket provides you with an evening of fun! Rental skates are available for $2.00 a pair. Skaters are welcome to bring their own skates\, but we ask that the wheels be clean.
X-ALT-DESC;FMTTYPE=text/html:<span style="color:rgb(63\, 63\, 63)\; font-family:arial\,helvetica neue\,helvetica\,sans-serif\; font-size:14px">Show your Christmas Spirit with us at our Ugly Sweater themed Skate Night! Bring your tackiest\, ugliest\, or gaudiest sweater (or just your coziest\, we won&#39\;t judge)&nbsp\;</span><span style="color:rgb(63\, 63\, 63)\; font-family:arial\,helvetica neue\,helvetica\,sans-serif\; font-size:14px">Admission plus $4.00 skate ticket provides you with an evening of fun! Rental skates are available for $2.00 a pair. Skaters are welcome to bring their own skates\, but we ask that the wheels be clean.</span>
LOCATION:Green River Recreation Center
UID:e.796.22026
SEQUENCE:3
DTSTAMP:20260424T223003Z
URL:https://business.grchamber.com/events/details/themed-skate-night-ugly-sweater-22026
END:VEVENT

END:VCALENDAR
