BEGIN:VCALENDAR
VERSION:2.0
PRODID:-//ChamberMaster//Event Calendar 2.0//EN
METHOD:PUBLISH
X-PUBLISHED-TTL:P3D
REFRESH-INTERVAL:P3D
CALSCALE:GREGORIAN
BEGIN:VEVENT
DTSTART:20240208T023000Z
DTEND:20240208T033000Z
X-MICROSOFT-CDO-ALLDAYEVENT:FALSE
SUMMARY:The R Factor: Get in the Groove
DESCRIPTION:Join Western Wyoming Community College for this total music experience!
X-ALT-DESC;FMTTYPE=text/html:Join Western Wyoming Community College for this total music experience!&nbsp\;
LOCATION:Western Wyoming Community College Theatre 2500 College Drive Rock Springs\, Wyoming 82901
UID:e.796.47949
SEQUENCE:3
DTSTAMP:20260419T182715Z
URL:https://business.grchamber.com/events/details/the-r-factor-get-in-the-groove-47949
END:VEVENT

END:VCALENDAR
