BEGIN:VCALENDAR
VERSION:2.0
PRODID:-//ChamberMaster//Event Calendar 2.0//EN
METHOD:PUBLISH
X-PUBLISHED-TTL:P3D
REFRESH-INTERVAL:P3D
CALSCALE:GREGORIAN
BEGIN:VEVENT
DTSTART:20181026T020000Z
DTEND:20181026T050000Z
X-MICROSOFT-CDO-ALLDAYEVENT:FALSE
SUMMARY:The Hunks
DESCRIPTION:The Hunks
X-ALT-DESC;FMTTYPE=text/html:The Hunks
LOCATION:Town Bar and Grill Green River\, WY
UID:e.796.17917
SEQUENCE:3
DTSTAMP:20260426T011453Z
URL:https://business.grchamber.com/events/details/the-hunks-17917
END:VEVENT

END:VCALENDAR
