BEGIN:VCALENDAR
VERSION:2.0
PRODID:-//ChamberMaster//Event Calendar 2.0//EN
METHOD:PUBLISH
X-PUBLISHED-TTL:P3D
REFRESH-INTERVAL:P3D
CALSCALE:GREGORIAN
BEGIN:VEVENT
DTSTART:20181018T173000Z
DTEND:20181018T190000Z
X-MICROSOFT-CDO-ALLDAYEVENT:FALSE
SUMMARY:Recruitment & Retention Discussion Panel
DESCRIPTION:High Desert HR Association\, an affiliate of SHRM\, presents:\nRECRUITMENT & RETENTION DISCUSSION PANEL\n\nJoin our discussion panel while we brainstorm ideas\, contribute suggestions\, and talk about the challenges and successes of recruitment and retention.\n\n \n\nHigh Desert Human Resources Association is recognized by SHRM to offer Professional Development Credit (PDCs) for SHRM-CP or SHRM-SCP. This program has been pre-approved for one (1) hour of SHRM and HRCI General Credit.
X-ALT-DESC;FMTTYPE=text/html:<span style="font-size:16px"><span style="background-color:transparent\; color:rgb(51\, 51\, 51)"><strong>High Desert HR Association</strong>\, an affiliate of SHRM\, presents:</span></span>\n<h2 style="margin-left:0px\; margin-right:0px\; text-align:center"><strong><span style="font-family:arial\,helvetica\,sans-serif"><span style="font-size:20px">RECRUITMENT &amp\; RETENTION DISCUSSION PANEL</span></span></strong></h2>\n\n<p style="text-align:center"><span style="font-size:16px"><span style="font-family:arial\,helvetica\,sans-serif">Join our discussion panel while we brainstorm ideas\, contribute suggestions\, and talk about the challenges and successes of recruitment and retention.</span></span></p>\n\n<p style="margin-left:0px\; margin-right:0px\; text-align:left">&nbsp\;</p>\n\n<p style="text-align:center"><span style="font-size:12px"><span style="font-family:arial\,helvetica\,sans-serif">High Desert Human Resources Association is recognized by SHRM to offer Professional Development Credit (PDCs) for SHRM-CP or SHRM-SCP. This program has been pre-approved for one (1) hour of SHRM and HRCI General Credit.</span></span></p>\n
LOCATION:This meeting will be held at Western Wyoming Community College\, Rock Springs (Room 1003).
UID:e.796.17922
SEQUENCE:3
DTSTAMP:20260425T233532Z
URL:https://business.grchamber.com/events/details/recruitment-retention-discussion-panel-17922
END:VEVENT

END:VCALENDAR
