BEGIN:VCALENDAR
VERSION:2.0
PRODID:-//ChamberMaster//Event Calendar 2.0//EN
METHOD:PUBLISH
X-PUBLISHED-TTL:P3D
REFRESH-INTERVAL:P3D
CALSCALE:GREGORIAN
BEGIN:VEVENT
DTSTART:20181012T220000Z
DTEND:20181013T003000Z
X-MICROSOFT-CDO-ALLDAYEVENT:FALSE
SUMMARY:Peak Performance Sports Medicine Physical Therapy
DESCRIPTION:In Celebration of National Physical Therapy Month. Peak Performance Sports Medicine Physical Therapy will be hosting a GRHS Tailgate Party. Tailgate party before the last home GRHS football game\, food\, games\, music\, fun (radio station will be there)\, meet your GRHS volleyball team\, bring lawn chairs and hang out.
X-ALT-DESC;FMTTYPE=text/html:In Celebration of National Physical Therapy Month. Peak Performance Sports Medicine Physical Therapy will be hosting a GRHS Tailgate Party. Tailgate party before the last home GRHS football game\, food\, games\, music\, fun (radio station will be there)\, meet your GRHS volleyball team\, bring lawn chairs and hang out.&nbsp\;
LOCATION:140 Commerce Drive Green River\, WY 82935
UID:e.796.17925
SEQUENCE:3
DTSTAMP:20260425T233727Z
URL:https://business.grchamber.com/events/details/peak-performance-sports-medicine-physical-therapy-17925
END:VEVENT

END:VCALENDAR
