BEGIN:VCALENDAR
VERSION:2.0
PRODID:-//ChamberMaster//Event Calendar 2.0//EN
METHOD:PUBLISH
X-PUBLISHED-TTL:P3D
REFRESH-INTERVAL:P3D
CALSCALE:GREGORIAN
BEGIN:VEVENT
DTSTART:20181005T230000Z
DTEND:20181006T020000Z
X-MICROSOFT-CDO-ALLDAYEVENT:FALSE
SUMMARY:Paint the Town Pink - Ladies Night Out
DESCRIPTION:Sweetwater Regional Cancer Center will host the free event Friday\, Oct. 5\, at the Broadway Theater.\n\nPaint the Town Pink   Ladies Night Out is designed to be a fun evening to raise awareness. Take a look:\n\n5 p.m.: Doors will open for wine\, strawberry lemonade and hors d'oeuvres. \n\nThe first 200 people will receive gift bags with fun goodies and feel-good products.\n\nYou'll find a variety of health information including breast health initiatives\, screening programs and cancer prevention.\n\n5:30 p.m.: The winner of the storefront decoration competition will be announced. The winner will receive a custom trophy and a painting from Edie's Art Creations.\n\nHematologist/Oncologist Dr. Banu Symington\, Radiation Oncologist Dr. Zachary Nicholas and MHSC Rehabilitation Services Director Debbie DeFauw will offer some insights.\n\n6 p.m.: Relax and enjoy "Mama Mia!" Feel free to sing along.\n\nMore prizes: At the end of the movie\, more prizes will be awarded.
X-ALT-DESC;FMTTYPE=text/html:<span style="font-family:times new roman\,serif"><span style="font-size:12.0pt">Sweetwater Regional Cancer Center will host the free event Friday\, Oct. 5\, at the Broadway Theater.</span></span><br />\n<span style="font-family:times new roman\,serif"><span style="font-size:12.0pt">Paint the Town Pink &ndash\; Ladies Night Out is designed to be a fun evening to raise awareness. Take a look:</span></span><br />\n<strong><span style="font-family:times new roman\,serif"><span style="font-size:12.0pt">5 p.m.:</span></span></strong><span style="font-family:times new roman\,serif"><span style="font-size:12.0pt"> Doors will open for wine\, strawberry lemonade and hors d&rsquo\;oeuvres. </span></span><br />\n<span style="font-family:times new roman\,serif"><span style="font-size:12.0pt">The first 200 people will receive gift bags with fun goodies and feel-good products.</span></span><br />\n<span style="font-family:times new roman\,serif"><span style="font-size:12.0pt">You&rsquo\;ll find a variety of health information including breast health initiatives\, screening programs and cancer prevention.</span></span><br />\n<strong><span style="font-family:times new roman\,serif"><span style="font-size:12.0pt">5:30 p.m.:</span></span></strong><span style="font-family:times new roman\,serif"><span style="font-size:12.0pt"> The winner of the storefront decoration competition will be announced. The winner will receive a custom trophy and a painting from Edie&rsquo\;s Art Creations.</span></span><br />\n<span style="font-family:times new roman\,serif"><span style="font-size:12.0pt">Hematologist/Oncologist Dr. Banu Symington\, Radiation Oncologist Dr. Zachary Nicholas and MHSC Rehabilitation Services Director Debbie DeFauw will offer some insights.</span></span><br />\n<strong><span style="font-family:times new roman\,serif"><span style="font-size:12.0pt">6 p.m.:</span></span></strong><span style="font-family:times new roman\,serif"><span style="font-size:12.0pt"> Relax and enjoy &ldquo\;Mama Mia!&rdquo\; Feel free to sing along.</span></span><br />\n<strong><span style="font-family:times new roman\,serif"><span style="font-size:12.0pt">More prizes:</span></span></strong><span style="font-family:times new roman\,serif"><span style="font-size:12.0pt"> At the end of the movie\, more prizes will be awarded.</span></span><br />\n&nbsp\;
LOCATION:Broadway Theater\, Rock Springs
UID:e.796.17906
SEQUENCE:3
DTSTAMP:20260425T210735Z
URL:https://business.grchamber.com/events/details/paint-the-town-pink-ladies-night-out-17906
END:VEVENT

END:VCALENDAR
