BEGIN:VCALENDAR
VERSION:2.0
PRODID:-//ChamberMaster//Event Calendar 2.0//EN
METHOD:PUBLISH
X-PUBLISHED-TTL:P3D
REFRESH-INTERVAL:P3D
CALSCALE:GREGORIAN
BEGIN:VEVENT
DTSTART:20210717T180000Z
DTEND:20210718T060000Z
X-MICROSOFT-CDO-ALLDAYEVENT:FALSE
SUMMARY:Owl's Nest Fest
DESCRIPTION:Food Drive & Wilderness Music Festival
X-ALT-DESC;FMTTYPE=text/html:Food Drive &amp\; Wilderness Music Festival
LOCATION:Owl's Nest Picnic Area. Scan QR code for directions.
UID:e.796.45225
SEQUENCE:3
DTSTAMP:20260421T170920Z
URL:https://business.grchamber.com/events/details/owl-s-nest-fest-45225
END:VEVENT

END:VCALENDAR
