BEGIN:VCALENDAR
VERSION:2.0
PRODID:-//ChamberMaster//Event Calendar 2.0//EN
METHOD:PUBLISH
X-PUBLISHED-TTL:P3D
REFRESH-INTERVAL:P3D
CALSCALE:GREGORIAN
BEGIN:VEVENT
DTSTART:20181013T180000Z
DTEND:20181014T040000Z
X-MICROSOFT-CDO-ALLDAYEVENT:FALSE
SUMMARY:Oktober Funfest
DESCRIPTION:The day will be full of fun activities for the whole family - with free food\, ice cream\, lemonade and iced tea. Collect your season pass\, learn more about the plans and goals for White Pine Junior Snowsports Club. There will be a scavenger hunt for the kids in the Enchanted Forest. Weather permitting the chair lift will be running from 2-4pm for free rides to the top of the mountain\, pick up information on the newly opened portion of  the Elkhart Loop Trail. There will be a job fair and to top it off\, help us drain the kegs & wine barrels in the Waggon & Horses bar on the top floor. Pints just $1.
X-ALT-DESC;FMTTYPE=text/html:The day will be full of fun activities for the whole family - with free food\, ice cream\, lemonade and iced tea. Collect your season pass\, learn more about the plans and goals for White Pine Junior Snowsports Club. There will be a scavenger hunt for the kids in the Enchanted Forest. Weather permitting the chair lift will be running from 2-4pm for free rides to the top of the mountain\, pick up information on the newly opened portion of&nbsp\; the Elkhart Loop Trail. There will be a job fair and to top it off\, help us drain the kegs &amp\; wine barrels in the Waggon &amp\; Horses bar on the top floor. Pints just $1.
LOCATION:White Pine Ski Area and Resort Pinedale\, Wyoming
UID:e.796.17914
SEQUENCE:3
DTSTAMP:20260425T233425Z
URL:https://business.grchamber.com/events/details/oktober-funfest-17914
END:VEVENT

END:VCALENDAR
