BEGIN:VCALENDAR
VERSION:2.0
PRODID:-//ChamberMaster//Event Calendar 2.0//EN
METHOD:PUBLISH
X-PUBLISHED-TTL:P3D
REFRESH-INTERVAL:P3D
CALSCALE:GREGORIAN
BEGIN:VEVENT
DTSTART:20181017T180000Z
DTEND:20181017T190000Z
X-MICROSOFT-CDO-ALLDAYEVENT:FALSE
SUMMARY:October Lunch and Learn
DESCRIPTION:Lunch and Learn is held the third Wednesday of each month at 12 PM\, held at the Hampton Inn and catered by local restaurants.\n\n\n\nThis is a catered event\, please RSVP by Monday\, October 15th at 10AM.
X-ALT-DESC;FMTTYPE=text/html:Lunch and Learn is held the third Wednesday of each month at 12 PM\, held at the Hampton Inn and catered by local restaurants.<br />\n<br />\nThis is a catered event\, please RSVP by Monday\, October 15th&nbsp\;at 10AM.
LOCATION:Hampton Inn 1055 Wild Horse Canyon Road Green River\, WY
UID:e.796.16848
SEQUENCE:3
DTSTAMP:20260425T233543Z
URL:https://business.grchamber.com/events/details/october-lunch-and-learn-16848
END:VEVENT

END:VCALENDAR
