BEGIN:VCALENDAR
VERSION:2.0
PRODID:-//ChamberMaster//Event Calendar 2.0//EN
METHOD:PUBLISH
X-PUBLISHED-TTL:P3D
REFRESH-INTERVAL:P3D
CALSCALE:GREGORIAN
BEGIN:VEVENT
DTSTART:20181114T010000Z
DTEND:20181114T030000Z
X-MICROSOFT-CDO-ALLDAYEVENT:FALSE
SUMMARY:MJ Haug Ribbon Cutting
DESCRIPTION:MJ Haug will be raffling off prizes for those who attend! \n\nPrizes will consists of \n\n2-40" tv's \n\n2-Keurigs \n\nand more!
X-ALT-DESC;FMTTYPE=text/html:<div style="color: rgb(54\, 73\, 95)\; font-family: Arial\, Verdana\, Helvetica\, sans-serif\; font-size: 14px\; white-space: pre-wrap\; background-color: rgb(174\, 204\, 242)\;"><span style="font-size:12px\;"><strong><span style="color: rgb(191\, 63\, 47)\; font-weight: bold\;">MJ</span><span style="font-weight: bold\;"> </span><span style="color: rgb(0\, 0\, 0)\; font-weight: bold\;">Haug will be raffling off prizes for those who attend! </span></strong></span></div>\n\n<div style="color: rgb(54\, 73\, 95)\; font-family: Arial\, Verdana\, Helvetica\, sans-serif\; font-size: 14px\; white-space: pre-wrap\; background-color: rgb(174\, 204\, 242)\;"><span style="font-size:12px\;"><strong><span style="font-weight: bold\; color: rgb(0\, 0\, 0)\;">Prizes will consists of </span></strong></span></div>\n\n<div style="color: rgb(54\, 73\, 95)\; font-family: Arial\, Verdana\, Helvetica\, sans-serif\; font-size: 14px\; white-space: pre-wrap\; background-color: rgb(174\, 204\, 242)\;"><span style="font-size:12px\;"><strong><span style="font-weight: bold\; color: rgb(0\, 0\, 0)\;">2-40&quot\; tv&#39\;s </span></strong></span></div>\n\n<div style="color: rgb(54\, 73\, 95)\; font-family: Arial\, Verdana\, Helvetica\, sans-serif\; font-size: 14px\; white-space: pre-wrap\; background-color: rgb(174\, 204\, 242)\;"><span style="font-size:12px\;"><strong><span style="font-weight: bold\; color: rgb(0\, 0\, 0)\;">2-Keurigs </span></strong></span></div>\n\n<div style="color: rgb(54\, 73\, 95)\; font-family: Arial\, Verdana\, Helvetica\, sans-serif\; font-size: 14px\; white-space: pre-wrap\; background-color: rgb(174\, 204\, 242)\;"><span style="font-size:12px\;"><strong><span style="font-weight: bold\; color: rgb(0\, 0\, 0)\;">and more!</span></strong></span></div>\n
LOCATION:340 E. Flaming Gorge Way Green River\, WY 82935
UID:e.796.18532
SEQUENCE:3
DTSTAMP:20260425T220003Z
URL:https://business.grchamber.com/events/details/mj-haug-ribbon-cutting-18532
END:VEVENT

END:VCALENDAR
