BEGIN:VCALENDAR
VERSION:2.0
PRODID:-//ChamberMaster//Event Calendar 2.0//EN
METHOD:PUBLISH
X-PUBLISHED-TTL:P3D
REFRESH-INTERVAL:P3D
CALSCALE:GREGORIAN
BEGIN:VEVENT
DTSTART;VALUE=DATE:20181207
DTEND;VALUE=DATE:20181208
TRANSP:TRANSPARENT
X-MICROSOFT-CDO-ALLDAYEVENT:TRUE
SUMMARY:Mayor Tree Lighting
DESCRIPTION:Mayor Tree Lighting
X-ALT-DESC;FMTTYPE=text/html:Mayor Tree Lighting
LOCATION:Clock Tower Downtown Green River
UID:e.796.18530
SEQUENCE:3
DTSTAMP:20260425T202602Z
URL:https://business.grchamber.com/events/details/mayor-tree-lighting-18530
END:VEVENT

END:VCALENDAR
