BEGIN:VCALENDAR
VERSION:2.0
PRODID:-//ChamberMaster//Event Calendar 2.0//EN
METHOD:PUBLISH
X-PUBLISHED-TTL:P3D
REFRESH-INTERVAL:P3D
CALSCALE:GREGORIAN
BEGIN:VEVENT
DTSTART:20181005T010000Z
DTEND:20181005T040000Z
X-MICROSOFT-CDO-ALLDAYEVENT:FALSE
SUMMARY:Hobbit Trail Tour Comedians
DESCRIPTION:
X-ALT-DESC;FMTTYPE=text/html:
LOCATION:Town Bar & Grill Green River\, WY
UID:e.796.17916
SEQUENCE:3
DTSTAMP:20260425T233553Z
URL:https://business.grchamber.com/events/details/hobbit-trail-tour-comedians-17916
END:VEVENT

END:VCALENDAR
