BEGIN:VCALENDAR
VERSION:2.0
PRODID:-//ChamberMaster//Event Calendar 2.0//EN
METHOD:PUBLISH
X-PUBLISHED-TTL:P3D
REFRESH-INTERVAL:P3D
CALSCALE:GREGORIAN
BEGIN:VEVENT
DTSTART:20181201T010000Z
DTEND:20181201T030000Z
X-MICROSOFT-CDO-ALLDAYEVENT:FALSE
SUMMARY:Happy Holidays from Green Gables
DESCRIPTION:Frolic back in time and savor all the thrilling and exquisite festivities late 19th Century Prince Edward Island has to share. Make and do just as Anne\, Marilla \, Matthew and all of Avonlea did at Christmastime. Puffed sleeves welcomed but not required.
X-ALT-DESC;FMTTYPE=text/html:Frolic back in time and savor all the thrilling and exquisite festivities late 19th Century Prince Edward Island has to share. Make and do just as Anne\, Marilla \, Matthew and all of Avonlea did at Christmastime. Puffed sleeves welcomed but not required.
LOCATION:Sweetwater County Library
UID:e.796.18757
SEQUENCE:3
DTSTAMP:20260425T220618Z
URL:https://business.grchamber.com/events/details/happy-holidays-from-green-gables-18757
END:VEVENT

END:VCALENDAR
