BEGIN:VCALENDAR
VERSION:2.0
PRODID:-//ChamberMaster//Event Calendar 2.0//EN
METHOD:PUBLISH
X-PUBLISHED-TTL:P3D
REFRESH-INTERVAL:P3D
CALSCALE:GREGORIAN
BEGIN:VEVENT
DTSTART:20181105T190000Z
DTEND:20181215T003000Z
X-MICROSOFT-CDO-ALLDAYEVENT:FALSE
SUMMARY:Hand made Christmas Ornament Contest
DESCRIPTION:Artists and crafters are wanted for our Handmade Ornament Contest.  Entries can be dropped off from now to Dec 14th for judging.  Must be handmade and no larger than 8"
X-ALT-DESC;FMTTYPE=text/html:Artists and crafters are wanted for our Handmade Ornament Contest.&nbsp\; Entries can be dropped off from now to Dec 14th for judging.&nbsp\; Must be handmade and no larger than 8&quot\;
LOCATION:Location drop off is at the Green River Chamber of Commerce 1155 West Flaming Gorge Way\, Green River
UID:e.796.18535
SEQUENCE:3
DTSTAMP:20260425T202916Z
URL:https://business.grchamber.com/events/details/hand-made-christmas-ornament-contest-18535
END:VEVENT

END:VCALENDAR
