BEGIN:VCALENDAR
VERSION:2.0
PRODID:-//ChamberMaster//Event Calendar 2.0//EN
METHOD:PUBLISH
X-PUBLISHED-TTL:P3D
REFRESH-INTERVAL:P3D
CALSCALE:GREGORIAN
BEGIN:VEVENT
DTSTART:20190604T000000Z
DTEND:20190609T020000Z
X-MICROSOFT-CDO-ALLDAYEVENT:FALSE
SUMMARY:GRPD 2019 Open House Academy
DESCRIPTION:The Green River Police Department is hosting an Open House Academy Event. Check their website or FB page for schedule and more information.
X-ALT-DESC;FMTTYPE=text/html:The Green River Police Department is hosting an Open House Academy Event. Check their website or FB page for schedule and more information.
LOCATION:375 W Flaming Gorge Way\, Green River Green River Police Department
UID:e.796.20574
SEQUENCE:3
DTSTAMP:20260425T110304Z
URL:https://business.grchamber.com/events/details/grpd-2019-open-house-academy-20574
END:VEVENT

END:VCALENDAR
