BEGIN:VCALENDAR
VERSION:2.0
PRODID:-//ChamberMaster//Event Calendar 2.0//EN
METHOD:PUBLISH
X-PUBLISHED-TTL:P3D
REFRESH-INTERVAL:P3D
CALSCALE:GREGORIAN
BEGIN:VEVENT
DTSTART:20181130T230000Z
DTEND:20181201T223000Z
X-MICROSOFT-CDO-ALLDAYEVENT:FALSE
SUMMARY:GHSC Craft Fair
DESCRIPTION:Golden Hour Senior Center Craft Fair\n\n\n\n Door prize raffle tickets $1 each or 6/$25\n\n 5 winners every hour
X-ALT-DESC;FMTTYPE=text/html:Golden Hour Senior Center Craft Fair<br />\n<br />\n&#8203\;Door prize raffle tickets $1 each or 6/$25<br />\n&#8203\;5 winners every hour
LOCATION:
UID:e.796.18531
SEQUENCE:3
DTSTAMP:20260425T202608Z
URL:https://business.grchamber.com/events/details/ghsc-craft-fair-18531
END:VEVENT

END:VCALENDAR
