BEGIN:VCALENDAR
VERSION:2.0
PRODID:-//ChamberMaster//Event Calendar 2.0//EN
METHOD:PUBLISH
X-PUBLISHED-TTL:P3D
REFRESH-INTERVAL:P3D
CALSCALE:GREGORIAN
BEGIN:VEVENT
DTSTART:20181124T180000Z
DTEND:20181215T210000Z
X-MICROSOFT-CDO-ALLDAYEVENT:FALSE
SUMMARY:FREE Carriage Rides - Saturdays
DESCRIPTION:FREE Carriage Rides
X-ALT-DESC;FMTTYPE=text/html:FREE Carriage Rides&nbsp\;
LOCATION:Downtown Rock Springs by Train Depot
UID:e.796.18771
SEQUENCE:3
DTSTAMP:20260425T215523Z
URL:https://business.grchamber.com/events/details/free-carriage-rides-saturdays-18771
END:VEVENT

END:VCALENDAR
