BEGIN:VCALENDAR
VERSION:2.0
PRODID:-//ChamberMaster//Event Calendar 2.0//EN
METHOD:PUBLISH
X-PUBLISHED-TTL:P3D
REFRESH-INTERVAL:P3D
CALSCALE:GREGORIAN
BEGIN:VEVENT
DTSTART:20190627T180000Z
DTEND:20190629T180000Z
X-MICROSOFT-CDO-ALLDAYEVENT:FALSE
SUMMARY:Flaming Gorge Days 2019 - Salute to Veterans
DESCRIPTION:Flaming Gorge Days\, celebrating its 63rd year\, has become the ceremonial summer kick off in the City of Green River for the residents of Sweetwater County.  This event brings families together to celebrate and partake in traditional events held each year.
X-ALT-DESC;FMTTYPE=text/html:<span style="display: inline !important\; float: none\; background-color: transparent\; color: rgb(255\, 131\, 0)\; font-family: josefin slab\,serif\; font-size: 16px\; font-style: normal\; font-variant: normal\; font-weight: 400\; letter-spacing: normal\; orphans: 2\; text-align: justify\; text-decoration: none\; text-indent: 0px\; text-transform: none\; -webkit-text-stroke-width: 0px\; white-space: normal\; word-spacing: 0px\;">Flaming Gorge Days\, celebrating its 63rd&nbsp\;year\, has become the ceremonial summer kick off in the City of Green River for the residents of Sweetwater County.&nbsp\; This event brings families together to celebrate and partake in traditional events held each year.</span>
LOCATION:50 E. 2nd N. Green River\, WY 877-354-3297
UID:e.796.20545
SEQUENCE:3
DTSTAMP:20260425T110531Z
URL:https://business.grchamber.com/events/details/flaming-gorge-days-2019-salute-to-veterans-20545
END:VEVENT

END:VCALENDAR
