BEGIN:VCALENDAR
VERSION:2.0
PRODID:-//ChamberMaster//Event Calendar 2.0//EN
METHOD:PUBLISH
X-PUBLISHED-TTL:P3D
REFRESH-INTERVAL:P3D
CALSCALE:GREGORIAN
BEGIN:VEVENT
DTSTART:20181208T193000Z
DTEND:20181208T220000Z
X-MICROSOFT-CDO-ALLDAYEVENT:FALSE
SUMMARY:Elf Movie Party
DESCRIPTION:We are eating Buddy's famous maple\, chocolate\, sprinkle spaghetti and watching Elf! Bring a blanket and pillow\, enjoy the movie\, and then create a keepsake 2018 ornament. Elf is rated PG and has a runtime of 1 hour and 37 minutes.
X-ALT-DESC;FMTTYPE=text/html:We are eating Buddy&rsquo\;s famous maple\, chocolate\, sprinkle spaghetti and watching Elf! Bring a blanket and pillow\, enjoy the movie\, and then create a keepsake 2018 ornament. Elf is rated PG and has a runtime of 1 hour and 37 minutes.
LOCATION:Sweetwater County Library
UID:e.796.18756
SEQUENCE:3
DTSTAMP:20260425T202726Z
URL:https://business.grchamber.com/events/details/elf-movie-party-18756
END:VEVENT

END:VCALENDAR
