BEGIN:VCALENDAR
VERSION:2.0
PRODID:-//ChamberMaster//Event Calendar 2.0//EN
METHOD:PUBLISH
X-PUBLISHED-TTL:P3D
REFRESH-INTERVAL:P3D
CALSCALE:GREGORIAN
BEGIN:VEVENT
DTSTART:20260228T020000Z
DTEND:20260228T033000Z
X-MICROSOFT-CDO-ALLDAYEVENT:FALSE
SUMMARY:Disney Skate Night
DESCRIPTION:Take off with us this Friday for a magical skate night! We will be having Disney-themed games and prizes! We can't wait to see you there!
X-ALT-DESC;FMTTYPE=text/html:Take off with us this Friday for a magical skate night! We will be having Disney-themed games and prizes! We can&#39\;t wait to see you there!
LOCATION:Green River Recreation Center
UID:e.796.49579
SEQUENCE:3
DTSTAMP:20260420T083540Z
URL:https://business.grchamber.com/events/details/disney-skate-night-49579
END:VEVENT

END:VCALENDAR
