BEGIN:VCALENDAR
VERSION:2.0
PRODID:-//ChamberMaster//Event Calendar 2.0//EN
METHOD:PUBLISH
X-PUBLISHED-TTL:P3D
REFRESH-INTERVAL:P3D
CALSCALE:GREGORIAN
BEGIN:VEVENT
DTSTART:20240514T160000Z
DTEND:20240514T190000Z
X-MICROSOFT-CDO-ALLDAYEVENT:FALSE
SUMMARY:Comm(unity) Shred Day
DESCRIPTION:Join us for our Comm(unity) Shred Day at Commerce Bank of Wyoming. Safely shred your personal documents\, such as bills\, banking statements\, and credit card offers\, with our on-site shredding services. Date: Tuesday\, May 14\, 2024 Time: 10 AM - 1 PM Location: Commerce Bank of Wyoming But that's not all we're making it an event for the community! Enjoy a tasty hotdog for lunch on us! We'll be collecting a free-will donations for the Ray Lovato Recycling Center. Member FDIC
X-ALT-DESC;FMTTYPE=text/html:Join us for our Comm(unity) Shred Day at Commerce Bank of Wyoming. Safely shred your personal documents\, such as bills\, banking statements\, and credit card offers\, with our on-site shredding services. Date: Tuesday\, May 14\, 2024 Time: 10 AM - 1 PM Location: Commerce Bank of Wyoming But that&#39\;s not all&mdash\;we&#39\;re making it an event for the community! Enjoy a tasty hotdog for lunch on us! We&rsquo\;ll be collecting a free-will donations for the Ray Lovato Recycling Center. Member FDIC
LOCATION:Commerce Bank of Wyoming 1575 Dewar Dr\, Ste 100\, Rock Springs\, Wyoming
UID:e.796.48141
SEQUENCE:3
DTSTAMP:20260419T142717Z
URL:https://business.grchamber.com/events/details/comm-unity-shred-day-48141
END:VEVENT

END:VCALENDAR
