BEGIN:VCALENDAR
VERSION:2.0
PRODID:-//ChamberMaster//Event Calendar 2.0//EN
METHOD:PUBLISH
X-PUBLISHED-TTL:P3D
REFRESH-INTERVAL:P3D
CALSCALE:GREGORIAN
BEGIN:VEVENT
DTSTART;VALUE=DATE:20190125
DTEND;VALUE=DATE:20190128
TRANSP:TRANSPARENT
X-MICROSOFT-CDO-ALLDAYEVENT:TRUE
SUMMARY:Burbot Bash
DESCRIPTION:Burbot Bash
X-ALT-DESC;FMTTYPE=text/html:Burbot Bash
LOCATION:Flaming Gorge Lake
UID:e.796.19292
SEQUENCE:3
DTSTAMP:20260425T183837Z
URL:https://business.grchamber.com/events/details/burbot-bash-19292
END:VEVENT

END:VCALENDAR
