BEGIN:VCALENDAR
VERSION:2.0
PRODID:-//ChamberMaster//Event Calendar 2.0//EN
METHOD:PUBLISH
X-PUBLISHED-TTL:P3D
REFRESH-INTERVAL:P3D
CALSCALE:GREGORIAN
BEGIN:VEVENT
DTSTART;VALUE=DATE:20181208
DTEND;VALUE=DATE:20181209
TRANSP:TRANSPARENT
X-MICROSOFT-CDO-ALLDAYEVENT:TRUE
SUMMARY:6th Annual Cowboy Christmas Ball
DESCRIPTION:6th Annual Cowboy Christmas Ball
X-ALT-DESC;FMTTYPE=text/html:6th Annual Cowboy Christmas Ball
LOCATION:Expedition Island in Green River
UID:e.796.18772
SEQUENCE:3
DTSTAMP:20260425T202924Z
URL:https://business.grchamber.com/events/details/6th-annual-cowboy-christmas-ball-18772
END:VEVENT

END:VCALENDAR
