BEGIN:VCALENDAR
VERSION:2.0
PRODID:-//ChamberMaster//Event Calendar 2.0//EN
METHOD:PUBLISH
X-PUBLISHED-TTL:P3D
REFRESH-INTERVAL:P3D
CALSCALE:GREGORIAN
BEGIN:VEVENT
DTSTART:20181110T163000Z
DTEND:20181110T163000Z
X-MICROSOFT-CDO-ALLDAYEVENT:FALSE
SUMMARY:2nd Annual Veterans Run/Walk
DESCRIPTION:2nd Annual Verterans Run/Walk
X-ALT-DESC;FMTTYPE=text/html:2nd Annual Verterans Run/Walk
LOCATION:38 North Center Street\, Green River
UID:e.796.18529
SEQUENCE:3
DTSTAMP:20260425T220013Z
URL:https://business.grchamber.com/events/details/2nd-annual-veterans-run-walk-18529
END:VEVENT

END:VCALENDAR
