BEGIN:VCALENDAR
VERSION:2.0
PRODID:-//ChamberMaster//Event Calendar 2.0//EN
METHOD:PUBLISH
X-PUBLISHED-TTL:P3D
REFRESH-INTERVAL:P3D
CALSCALE:GREGORIAN
BEGIN:VEVENT
DTSTART:20181210T011500Z
DTEND:20181210T040000Z
X-MICROSOFT-CDO-ALLDAYEVENT:FALSE
SUMMARY:2nd Annual Candle Lighting Service
DESCRIPTION:Join The Compassionate Friends of Sweetwater County for their 2nd Annual Candle Lighting Service. \n\n\n\n They will have chili\, cornbread\, cupcakes\, coffee and hot chocolate after the lighting service. \n\n\n\n This is open to the public for anyone who has lost a loved one. Please bring a photo of your loved one.
X-ALT-DESC;FMTTYPE=text/html:Join The Compassionate Friends of Sweetwater County for their 2nd Annual Candle Lighting Service.&nbsp\;<br />\n<br />\n&#8203\;They will have chili\, cornbread\, cupcakes\, coffee and hot chocolate after the lighting service.&nbsp\;<br />\n<br />\n&#8203\;This is open to the public for anyone who has lost a loved one. Please bring a photo of your loved one.
LOCATION:Masonic Temple 129 E Flaming Gorge Way Green River\, WY
UID:e.796.18762
SEQUENCE:3
DTSTAMP:20260425T215524Z
URL:https://business.grchamber.com/events/details/2nd-annual-candle-lighting-service-18762
END:VEVENT

END:VCALENDAR
