BEGIN:VCALENDAR
VERSION:2.0
PRODID:-//ChamberMaster//Event Calendar 2.0//EN
METHOD:PUBLISH
X-PUBLISHED-TTL:P3D
REFRESH-INTERVAL:P3D
CALSCALE:GREGORIAN
BEGIN:VEVENT
DTSTART:20191116T010000Z
DTEND:20191117T000000Z
X-MICROSOFT-CDO-ALLDAYEVENT:FALSE
SUMMARY:2019 Holiday Business Showcase
DESCRIPTION:2019 Holiday business Showcase \n\nShop Local\n\nFor additional information call Green River Chamber 307-875-5711
X-ALT-DESC;FMTTYPE=text/html:2019 Holiday business Showcase&nbsp\;<br />\nShop Local<br />\nFor additional information call Green River Chamber 307-875-5711
LOCATION:Expedition Island Pavillion
UID:e.796.22034
SEQUENCE:3
DTSTAMP:20260425T032602Z
URL:https://business.grchamber.com/events/details/2019-holiday-business-showcase-22034
END:VEVENT

END:VCALENDAR
