BEGIN:VCALENDAR
VERSION:2.0
PRODID:-//ChamberMaster//Event Calendar 2.0//EN
METHOD:PUBLISH
X-PUBLISHED-TTL:P3D
REFRESH-INTERVAL:P3D
CALSCALE:GREGORIAN
BEGIN:VEVENT
DTSTART:20180929T160000Z
DTEND:20180929T230000Z
X-MICROSOFT-CDO-ALLDAYEVENT:FALSE
SUMMARY:150th Anniversary
DESCRIPTION:Celebrating 150 years of Green River City and Transcontinental Railroad
X-ALT-DESC;FMTTYPE=text/html:Celebrating 150 years of Green River City and Transcontinental Railroad&nbsp\;
LOCATION:U P Depot East RailRoad Street
UID:e.796.17903
SEQUENCE:3
DTSTAMP:20260426T011623Z
URL:https://business.grchamber.com/events/details/150th-anniversary-17903
END:VEVENT

END:VCALENDAR
