BEGIN:VCALENDAR
VERSION:2.0
PRODID:-//ChamberMaster//Event Calendar 2.0//EN
METHOD:PUBLISH
X-PUBLISHED-TTL:P3D
REFRESH-INTERVAL:P3D
CALSCALE:GREGORIAN
BEGIN:VEVENT
DTSTART;VALUE=DATE:20230714
DTEND;VALUE=DATE:20230716
TRANSP:TRANSPARENT
X-MICROSOFT-CDO-ALLDAYEVENT:TRUE
SUMMARY:Whistler Chevrolet Car Show
DESCRIPTION:Save the Date for Whistler Chevrolet's Car Show
X-ALT-DESC;FMTTYPE=text/html:Save the Date for <span style="color: rgb(51\, 51\, 51)\; font-family: sans-serif\, Arial\, Verdana\, &quot\;Trebuchet MS&quot\;\; font-size: 13px\; background-color: rgb(255\, 255\, 255)\;">Whistler&nbsp\;</span><span style="color: rgb(51\, 51\, 51)\; font-family: sans-serif\, Arial\, Verdana\, &quot\;Trebuchet MS&quot\;\; font-size: 13px\; background-color: rgb(255\, 255\, 255)\;">Chevrolet's&nbsp\;</span>Car Show
LOCATION:Whistler Chevrolet
UID:e.796.46805
SEQUENCE:3
DTSTAMP:20260421T205943Z
URL:http://business.grchamber.com/events/details/whistler-chevrolet-car-show-46805
END:VEVENT

END:VCALENDAR
