BEGIN:VCALENDAR
VERSION:2.0
PRODID:-//ChamberMaster//Event Calendar 2.0//EN
METHOD:PUBLISH
X-PUBLISHED-TTL:P3D
REFRESH-INTERVAL:P3D
CALSCALE:GREGORIAN
BEGIN:VEVENT
DTSTART:20210821T130000Z
DTEND:20210821T200000Z
X-MICROSOFT-CDO-ALLDAYEVENT:FALSE
SUMMARY:Run with the Horses Marathon\, 1/2 & 10K
DESCRIPTION:
X-ALT-DESC;FMTTYPE=text/html:
LOCATION:
UID:e.796.43898
SEQUENCE:3
DTSTAMP:20260423T103848Z
URL:http://business.grchamber.com/events/details/run-with-the-horses-marathon-1-2-10k-43898
END:VEVENT

END:VCALENDAR
