BEGIN:VCALENDAR
VERSION:2.0
PRODID:-//ChamberMaster//Event Calendar 2.0//EN
METHOD:PUBLISH
X-PUBLISHED-TTL:P3D
REFRESH-INTERVAL:P3D
CALSCALE:GREGORIAN
BEGIN:VEVENT
DTSTART:20230929T220000Z
DTEND:20230930T030000Z
X-MICROSOFT-CDO-ALLDAYEVENT:FALSE
SUMMARY:Riverside Harvest Festival 2023
DESCRIPTION:Start your family's spooky season with a bang by joining us for another year of the Riverside Harvest Festival!\n\nWe have tricks\, treats\, activities\, and eats to entertain even the most wicked of witches\, including:\n\n- Local Vendors\n\n- Jumpin Pumpkin Playground\n\n- Locally Grown Pumpkins\n\n- Costume Contests\n\n- Fall Crafts\n\n- Food Trucks\n\n- Photobooths\n\n- Face Painting\n\n- Scavenger Hunt\n\n- Haunted Garden\n\n- Crafts\n\n- Music\n\nAnd so much more!\n\nMark your calendars for the dates below and we hope see you dressed up and ready to go!\n\nSept 28: 4pm-9pm\n\nSept 29: 4pm-9pm\n\nSept 30: 12pm-9pm
X-ALT-DESC;FMTTYPE=text/html:<div>Start your family&#39\;s spooky season with a bang by joining us for another year of the Riverside Harvest Festival!</div>\n\n<div>We have tricks\, treats\, activities\, and eats to entertain even the most wicked of witches\, including:<br />\n- Local Vendors<br />\n- Jumpin Pumpkin Playground<br />\n- Locally Grown Pumpkins<br />\n- Costume Contests<br />\n- Fall Crafts<br />\n- Food Trucks<br />\n- Photobooths<br />\n- Face Painting<br />\n- Scavenger Hunt<br />\n- Haunted Garden<br />\n- Crafts<br />\n- Music<br />\nAnd so much more!</div>\n\n<div>Mark your calendars for the dates below and we hope see you dressed up and ready to go!<br />\nSept 28: 4pm-9pm<br />\nSept 29: 4pm-9pm<br />\nSept 30: 12pm-9pm</div>\n
LOCATION:Riverside Nursery 100 E 2nd S Green River\, Wyoming 82935
UID:e.796.46829
SEQUENCE:3
DTSTAMP:20260421T181318Z
URL:http://business.grchamber.com/events/details/riverside-harvest-festival-2023-09-29-2023-46829
END:VEVENT

END:VCALENDAR
