BEGIN:VCALENDAR
VERSION:2.0
PRODID:-//ChamberMaster//Event Calendar 2.0//EN
METHOD:PUBLISH
X-PUBLISHED-TTL:P3D
REFRESH-INTERVAL:P3D
CALSCALE:GREGORIAN
BEGIN:VEVENT
DTSTART:20221022T010000Z
DTEND:20221022T020000Z
X-MICROSOFT-CDO-ALLDAYEVENT:FALSE
SUMMARY:Readings from Deep Wild Journal
DESCRIPTION:Western is hosting a literary reading with authors from the Deep Wild Journal: Writing from the Backcountry on Friday\, October 21 at 7PM in room 1302. Light refreshments will be served as three writers for the journal\, Stephanie Eardley\, Stephen Lottridge\, and Rich Kempa read and discuss their work and that of other contributors to the journal.
X-ALT-DESC;FMTTYPE=text/html:<p>Western is hosting a literary reading with authors from the <em>Deep Wild Journal: Writing from the Backcountry </em>on Friday\, October 21 at 7PM in room 1302. Light refreshments will be served as three writers for the journal\, Stephanie Eardley\, Stephen Lottridge\, and Rich Kempa&nbsp\;read and discuss their work and that of other contributors to the journal.&nbsp\;</p>\n
LOCATION:Western Wyoming Community College Room 1302 2500 College Drive Rock Springs\, Wyoming 82901
UID:e.796.46181
SEQUENCE:3
DTSTAMP:20260422T141612Z
URL:http://business.grchamber.com/events/details/readings-from-deep-wild-journal-46181
END:VEVENT

END:VCALENDAR
