BEGIN:VCALENDAR
VERSION:2.0
PRODID:-//ChamberMaster//Event Calendar 2.0//EN
METHOD:PUBLISH
X-PUBLISHED-TTL:P3D
REFRESH-INTERVAL:P3D
CALSCALE:GREGORIAN
BEGIN:VEVENT
DTSTART:20210925T160000Z
DTEND:20210925T210000Z
X-MICROSOFT-CDO-ALLDAYEVENT:FALSE
SUMMARY:Pop Up Bakery with Michelle
DESCRIPTION:Come enjoy an unforgettable eating experience and bring your friends. Try a sample of my specialty vinegars and unique jellies. Michelle will have two buttery and flaky scones - blackberry lime and pumpkin spice. Cupcakes and cake spread joy and she'll have both. Tempt yourself with a kahlua pumpkin spice cupcake or a vanilla and strawberry cupcake. Finally have a piece of moist vanilla cake made with her bourbon vanilla bean peach jelly.\n\n\n\nKids get a FREE cookie!
X-ALT-DESC;FMTTYPE=text/html:<div style="text-align:center">Come enjoy an unforgettable eating experience and bring your friends. Try a sample of my specialty vinegars and unique jellies. Michelle will have two buttery and flaky scones - blackberry lime and pumpkin spice. Cupcakes and cake spread joy and she&rsquo\;ll have both. Tempt yourself with a kahlua pumpkin spice cupcake or a vanilla and strawberry cupcake. Finally have a piece of moist vanilla cake made with her bourbon vanilla bean peach jelly.<br />\n<br />\nKids get a FREE cookie!&nbsp\;</div>\n
LOCATION:Red White Buffalo 68 N 1st E Downtown Green River in the historic Tomahawk Hotel
UID:e.796.45488
SEQUENCE:3
DTSTAMP:20260423T091650Z
URL:http://business.grchamber.com/events/details/pop-up-bakery-with-michelle-45488
END:VEVENT

END:VCALENDAR
