BEGIN:VCALENDAR
VERSION:2.0
PRODID:-//ChamberMaster//Event Calendar 2.0//EN
METHOD:PUBLISH
X-PUBLISHED-TTL:P3D
REFRESH-INTERVAL:P3D
CALSCALE:GREGORIAN
BEGIN:VEVENT
DTSTART:20221015T010000Z
DTEND:20221015T020000Z
X-MICROSOFT-CDO-ALLDAYEVENT:FALSE
SUMMARY:Out Here on Our Own: An Oral History of an American Boomtown
DESCRIPTION:Western will be hosting author\, J.J. Anselmi\, on Friday\, October 14 at 7PM in room 1302. Anselmi will be reading from his book\, Out Here on Our Own: An Oral History of an American Boomtown. Photographer Jordan Utley\, who took photographs for the book\, will be accompanying Anselmi on his book tour and will share various images from the publication.
X-ALT-DESC;FMTTYPE=text/html:<p>Western will be hosting author\, J.J. Anselmi\, on Friday\, October 14 at 7PM in room 1302. Anselmi will be reading from his book\, <em>Out Here on Our Own: An Oral History of an American Boomtown</em>. Photographer Jordan Utley\, who took photographs for the book\, will be accompanying Anselmi on his book tour and will share various images from the publication.&nbsp\;&nbsp\;</p>\n
LOCATION:Western Wyoming Community College Room 1302 2500 College Drive Rock Springs\, Wyoming 82901
UID:e.796.46180
SEQUENCE:3
DTSTAMP:20260422T142028Z
URL:http://business.grchamber.com/events/details/out-here-on-our-own-an-oral-history-of-an-american-boomtown-46180
END:VEVENT

END:VCALENDAR
