BEGIN:VCALENDAR
VERSION:2.0
PRODID:-//ChamberMaster//Event Calendar 2.0//EN
METHOD:PUBLISH
X-PUBLISHED-TTL:P3D
REFRESH-INTERVAL:P3D
CALSCALE:GREGORIAN
BEGIN:VEVENT
DTSTART:20231118T170000Z
DTEND:20231118T220000Z
X-MICROSOFT-CDO-ALLDAYEVENT:FALSE
SUMMARY:Non-Alcoholic Beverage Sampling
DESCRIPTION:Join us for some non-alcoholic Beverage Sampling at The Holiday Business Showcase! November 18th 10am-3pm.\n\nSamples are provided by\, Teton Distributors\, and Badass Brews.
X-ALT-DESC;FMTTYPE=text/html:Join us for some non-alcoholic Beverage Sampling at The Holiday Business Showcase! November 18th 10am-3pm.<br />\nSamples are provided by\, Teton Distributors\, and Badass Brews.
LOCATION:Expedition Island pavilion\, Green River\, Wy
UID:e.796.47918
SEQUENCE:3
DTSTAMP:20260421T153033Z
URL:http://business.grchamber.com/events/details/non-alcoholic-beverage-sampling-47918
END:VEVENT

END:VCALENDAR
