BEGIN:VCALENDAR
VERSION:2.0
PRODID:-//ChamberMaster//Event Calendar 2.0//EN
METHOD:PUBLISH
X-PUBLISHED-TTL:P3D
REFRESH-INTERVAL:P3D
CALSCALE:GREGORIAN
BEGIN:VEVENT
DTSTART:20251119T230000Z
DTEND:20251120T000000Z
X-MICROSOFT-CDO-ALLDAYEVENT:FALSE
SUMMARY:Lecture: The Writer’s Odyssey: From Dreamer to Author
DESCRIPTION:Schopfer will reflect on his personal journey as a writer\, starting from his early days of dream-chasing to becoming a published author and beyond. Attendees should come prepared to be inspired while receiving real-world advice on overcoming creative hurdles\, building a writing routine\, and navigating the path to publication. \n\n\n\nCan't attend in person? Join us on Zoom! Find the link at westernwyoming.edu/calendar
X-ALT-DESC;FMTTYPE=text/html:<div>\n<p><span style="font-family:aptos\,aptos_embeddedfont\,aptos_msfontservice\,sans-serif\; font-size:12pt">Schopfer will reflect on his personal journey as a writer\, starting from his early days of dream-chasing to becoming a published author and beyond. Attendees should come prepared to be inspired while receiving real-world advice on overcoming creative hurdles\, building a writing routine\, and navigating the path to publication.&nbsp\;</span></p>\n</div>\n\n<div>\n<p><span style="font-family:aptos\,aptos_embeddedfont\,aptos_msfontservice\,sans-serif\; font-size:12pt">Can&#39\;t attend in person? Join us on Zoom! Find the link at </span><span style="color:rgb(70\, 120\, 134)\; font-family:aptos\,aptos_embeddedfont\,aptos_msfontservice\,sans-serif\; font-size:12pt"><a class="Hyperlink SCXW210227816 BCX0" href="https://westernwyoming.edu/calendar" rel="noreferrer noopener" style="color: rgb(70\, 120\, 134)\; text-decoration-line: none\; margin: 0px\;" target="_blank" title="https://westernwyoming.edu/calendar">westernwyoming.edu/calendar</a></span><span style="font-family:aptos\,aptos_embeddedfont\,aptos_msfontservice\,sans-serif\; font-size:12pt">&nbsp\;</span></p>\n\n<div>&nbsp\;</div>\n</div>\n\n<div>\n<p>&nbsp\;</p>\n</div>\n
LOCATION:Western Wyoming Community College Room 1302 or Zoom 2500 College Drive Rock Springs\, Wyoming
UID:e.796.49543
SEQUENCE:3
DTSTAMP:20260425T203116Z
URL:http://business.grchamber.com/events/details/lecture-the-writer-s-odyssey-from-dreamer-to-author-49543
END:VEVENT

END:VCALENDAR
