BEGIN:VCALENDAR
VERSION:2.0
PRODID:-//ChamberMaster//Event Calendar 2.0//EN
METHOD:PUBLISH
X-PUBLISHED-TTL:P3D
REFRESH-INTERVAL:P3D
CALSCALE:GREGORIAN
BEGIN:VEVENT
DTSTART:20251119T012500Z
DTEND:20251119T040000Z
X-MICROSOFT-CDO-ALLDAYEVENT:FALSE
SUMMARY:Ken Burns’ The American Revolution – Free Screening
DESCRIPTION:Join Western for a free screening of Ken Burns' The American Revolution\, presented by Western Wyoming Community College in celebration of America's upcoming 250th anniversary in 2026.\n\n \n\nEach evening\, Assistant Professor of History Christopher Esing will offer a brief historical overview before the screening and lead a moderated discussion afterward to deepen understanding and spark conversation.\n\n \n\nLight refreshments will be served before and after each showing\, courtesy of Western's Cultural Affairs Committee.\n\n \n\nCome explore the pivotal moments that shaped our nation and connect with others as we prepare to commemorate 250 years of American history.
X-ALT-DESC;FMTTYPE=text/html:<div>Join Western for a free screening of Ken Burns&rsquo\; The American Revolution\, presented by Western Wyoming Community College in celebration of America&rsquo\;s upcoming 250th anniversary in 2026.</div>\n\n<div>&nbsp\;</div>\n\n<div>Each evening\, Assistant Professor of History Christopher Esing will offer a brief historical overview before the screening and lead a moderated discussion afterward to deepen understanding and spark conversation.</div>\n\n<div>&nbsp\;</div>\n\n<div>Light refreshments will be served before and after each showing\, courtesy of Western&rsquo\;s Cultural Affairs Committee.</div>\n\n<div>&nbsp\;</div>\n\n<div>Come explore the pivotal moments that shaped our nation and connect with others as we prepare to commemorate 250 years of American history.</div>\n
LOCATION:Western Wyoming Community College Room 1302 (By the Pendulum) 2500 College Drive Rock Springs\, Wyoming
UID:e.796.49546
SEQUENCE:3
DTSTAMP:20260425T203253Z
URL:http://business.grchamber.com/events/details/ken-burns-the-american-revolution-free-screening-11-18-2025-49546
END:VEVENT

END:VCALENDAR
