BEGIN:VCALENDAR
VERSION:2.0
PRODID:-//ChamberMaster//Event Calendar 2.0//EN
METHOD:PUBLISH
X-PUBLISHED-TTL:P3D
REFRESH-INTERVAL:P3D
CALSCALE:GREGORIAN
BEGIN:VEVENT
DTSTART:20240203T180000Z
DTEND:20240203T210000Z
X-MICROSOFT-CDO-ALLDAYEVENT:FALSE
SUMMARY:Homecoming Chili Cook-Off
DESCRIPTION:NOW ON WESTERN'S CAMPUS!\n\n \n\nJoin us for Western's Homecoming Chili Cook-Off in the Atrium!\n\n\n\nSample some great chili and vote for your favorite one! Don't forget to bring a donation\, item or funds\, for Western's Student Storehouse. The Storehouse is a necessity bank that is available to all students.\n\n \n\nHave a fire chili? Register to compete by January 25! \n\n\n\nFollowing the Chili Cook-Off\, everyone is encouraged to cheer on the Mustangs during women's and men's basketball games against Laramie County Community College in the Rushmore Gym\, starting at 2 PM!
X-ALT-DESC;FMTTYPE=text/html:<div style="text-align:center">NOW ON WESTERN&#39\;S CAMPUS!<br />\n&nbsp\;</div>\n\n<div>Join us for Western&#39\;s&nbsp\;<a href="https://www.westernwyoming.edu/mustang-athletics/homecoming/index.php" style="color: var(--mc-link)\;"><span style="color:#0000CD">Homecoming Chili Cook-Off</span></a>&nbsp\;in the Atrium!<br />\n<br />\nSample some great chili and vote for your favorite one! Don&#39\;t forget to bring a donation\, item or funds\, for Western&#39\;s&nbsp\;<a href="https://www.westernwyoming.edu/mustang-athletics/homecoming/storehouse-fundraiser.php" style="color: var(--mc-link)\;"><span style="color:#0000CD">Student Storehouse</span></a>. The Storehouse is a necessity bank that is available to all students.<br />\n&nbsp\;</div>\n\n<div>Have a fire chili?&nbsp\;<a href="https://www.westernwyoming.edu/mustang-athletics/homecoming/chili-registration.php" style="color: var(--mc-link)\;"><span style="color:#0000CD"><strong>Register</strong></span></a>&nbsp\;to compete by January 25!&nbsp\;</div>\n\n<div><br />\nFollowing the Chili Cook-Off\, everyone is encouraged to cheer on the Mustangs during&nbsp\;<a href="https://www.westernwyoming.edu/calendar/athletics.php" style="color: var(--mc-link)\;"><span style="color:#0000CD">women&#39\;s and men&#39\;s basketball games</span></a>&nbsp\;against Laramie County Community College in the Rushmore Gym\, starting at 2 PM!&nbsp\;&nbsp\;</div>\n
LOCATION:Western Wyoming Community College Atrium 2500 College Drive Rock Springs\, Wyoming 82901
UID:e.796.47950
SEQUENCE:3
DTSTAMP:20260421T112609Z
URL:http://business.grchamber.com/events/details/homecoming-chili-cook-off-47950
END:VEVENT

END:VCALENDAR
