BEGIN:VCALENDAR
VERSION:2.0
PRODID:-//ChamberMaster//Event Calendar 2.0//EN
METHOD:PUBLISH
X-PUBLISHED-TTL:P3D
REFRESH-INTERVAL:P3D
CALSCALE:GREGORIAN
BEGIN:VEVENT
DTSTART:20140418T190000Z
DTEND:20140418T230000Z
X-MICROSOFT-CDO-ALLDAYEVENT:FALSE
SUMMARY:Good Friday-Office Closed Half Day
DESCRIPTION:Sweetwater County Events Complex office will be close at 1:00 PM for Good Friday.
X-ALT-DESC;FMTTYPE=text/html:Sweetwater County Events Complex office will be close at 1:00 PM for Good Friday.
LOCATION:
UID:e.796.5536
SEQUENCE:3
DTSTAMP:20260424T233635Z
URL:http://business.grchamber.com/events/details/good-friday-office-closed-half-day-04-18-2014-5536
END:VEVENT

END:VCALENDAR
