BEGIN:VCALENDAR
VERSION:2.0
PRODID:-//ChamberMaster//Event Calendar 2.0//EN
METHOD:PUBLISH
X-PUBLISHED-TTL:P3D
REFRESH-INTERVAL:P3D
CALSCALE:GREGORIAN
BEGIN:VEVENT
DTSTART:20231028T180000Z
DTEND:20231028T230000Z
X-MICROSOFT-CDO-ALLDAYEVENT:FALSE
SUMMARY:Flaming Gorge Harley Davidson Haunted Harley Ride
DESCRIPTION:Flaming Gorge Harley Davidson 17th Annual Haunted Toy Ride\n\nSaturday October 28th\n\n12pm - 5pm \n\nDrinks and food\, Rolling pin poker run\, costume Contest\, and games!
X-ALT-DESC;FMTTYPE=text/html:Flaming Gorge Harley Davidson 17th Annual Haunted Toy Ride<br />\nSaturday October 28th<br />\n12pm - 5pm&nbsp\;<br />\nDrinks and food\, Rolling pin poker run\, costume Contest\, and games!
LOCATION:Flaming Gorge Harley Davidson 440 Uinta Dr. Green River\, Wyoming 82935
UID:e.796.47914
SEQUENCE:3
DTSTAMP:20260421T165122Z
URL:http://business.grchamber.com/events/details/flaming-gorge-harley-davidson-haunted-harley-ride-47914
END:VEVENT

END:VCALENDAR
