BEGIN:VCALENDAR
VERSION:2.0
PRODID:-//ChamberMaster//Event Calendar 2.0//EN
METHOD:PUBLISH
X-PUBLISHED-TTL:P3D
REFRESH-INTERVAL:P3D
CALSCALE:GREGORIAN
BEGIN:VEVENT
DTSTART:20231105T200000Z
DTEND:20231105T210000Z
X-MICROSOFT-CDO-ALLDAYEVENT:FALSE
SUMMARY:Flaming Gorge Harley Davidson Annual Toy Run
DESCRIPTION:Flaming Gorge Harley Davidson 33rd Annual Toy Run \n\nNovember 5th\, \n\nKick stands up at 1pm\n\nMeet at Harley Davidson at noon\,\n\nEntry fee is ONE new boy or girl toy
X-ALT-DESC;FMTTYPE=text/html:Flaming Gorge Harley Davidson 33rd Annual Toy Run&nbsp\;<br />\nNovember 5th\,&nbsp\;<br />\nKick stands up at 1pm<br />\nMeet at Harley Davidson at noon\,<br />\nEntry fee is ONE new boy or girl toy
LOCATION:Flaming Gorge Harley Davidson 440n Uinta Dr\, Green River Wyoming82935
UID:e.796.47913
SEQUENCE:3
DTSTAMP:20260421T153140Z
URL:http://business.grchamber.com/events/details/flaming-gorge-harley-davidson-annual-toy-run-47913
END:VEVENT

END:VCALENDAR
