BEGIN:VCALENDAR
VERSION:2.0
PRODID:-//ChamberMaster//Event Calendar 2.0//EN
METHOD:PUBLISH
X-PUBLISHED-TTL:P3D
REFRESH-INTERVAL:P3D
CALSCALE:GREGORIAN
BEGIN:VEVENT
DTSTART:20220429T003000Z
DTEND:20220429T020000Z
X-MICROSOFT-CDO-ALLDAYEVENT:FALSE
SUMMARY:Finance Basics for your Business
DESCRIPTION:Finance Basics for Owners and Managers. In this seminar we will introduce you to the basics of finance. The Topics covered will include the language of finance\, accrual vs cash basis of accounting\, how to interpret a financial statement\, an introduction to financial ratios\, and the importance of cash flow. the class is designed to give you practical advice on how to evaluate your business.
X-ALT-DESC;FMTTYPE=text/html:Finance Basics for Owners and Managers. In this seminar we will introduce you to the basics of finance. The Topics covered will include the language of finance\, accrual vs cash basis of accounting\, how to interpret a financial statement\, an introduction to financial ratios\, and the importance of cash flow. the class is designed to give you practical advice on how to evaluate your business.
LOCATION:Zoom and In person at Western Wyoming Community College
UID:e.796.45843
SEQUENCE:3
DTSTAMP:20260423T014341Z
URL:http://business.grchamber.com/events/details/finance-basics-for-your-business-45843
END:VEVENT

END:VCALENDAR
