BEGIN:VCALENDAR
VERSION:2.0
PRODID:-//ChamberMaster//Event Calendar 2.0//EN
METHOD:PUBLISH
X-PUBLISHED-TTL:P3D
REFRESH-INTERVAL:P3D
CALSCALE:GREGORIAN
BEGIN:VEVENT
DTSTART:20220125T153000Z
DTEND:20220125T170000Z
X-MICROSOFT-CDO-ALLDAYEVENT:FALSE
SUMMARY:Effectively Market Your Business
DESCRIPTION:How to effectively market your business in todays challenging times. The guest speaker is Mike Martoccia\, VP-Digital Marketing/ APG\n\nMake reservations today! you can go to lwhite@rocketminer.com\, or you can also contact the Chamber at 307-875-5711.
X-ALT-DESC;FMTTYPE=text/html:How to effectively market your business in todays challenging times. The guest speaker is Mike Martoccia\, VP-Digital Marketing/ APG<br />\nMake reservations today! you can go to lwhite@rocketminer.com\, or you can also contact the Chamber at 307-875-5711.
LOCATION:This event will take place at the Green River Chamber of Commerce Visitor Center
UID:e.796.45727
SEQUENCE:3
DTSTAMP:20260423T062634Z
URL:http://business.grchamber.com/events/details/effectively-market-your-business-45727
END:VEVENT

END:VCALENDAR
