BEGIN:VCALENDAR
VERSION:2.0
PRODID:-//ChamberMaster//Event Calendar 2.0//EN
METHOD:PUBLISH
X-PUBLISHED-TTL:P3D
REFRESH-INTERVAL:P3D
CALSCALE:GREGORIAN
BEGIN:VEVENT
DTSTART:20210924T223000Z
DTEND:20210925T000000Z
X-MICROSOFT-CDO-ALLDAYEVENT:FALSE
SUMMARY:DIY Pumpkin Wire Pendant
DESCRIPTION:Join us and instructor Norma Pond and learn how to make this adorable pumpkin pendant out of wire.  Space is limited so registration is required. You can register by calling the store\, paying at the store\, message me for the Venmo or we can send you an invoice via email.
X-ALT-DESC;FMTTYPE=text/html:Join us and instructor Norma Pond and learn how to make this adorable pumpkin pendant out of wire. &nbsp\;Space is limited so registration is required. You can register by calling the store\, paying at the store\, message me for the Venmo or we can send you an invoice via email.
LOCATION:Red White Buffalo 68 N 1st E Green River\, Wyoming inside the historic Tomahawk Hotel
UID:e.796.45489
SEQUENCE:3
DTSTAMP:20260423T091736Z
URL:http://business.grchamber.com/events/details/diy-pumpkin-wire-pendant-45489
END:VEVENT

END:VCALENDAR
