BEGIN:VCALENDAR
VERSION:2.0
PRODID:-//ChamberMaster//Event Calendar 2.0//EN
METHOD:PUBLISH
X-PUBLISHED-TTL:P3D
REFRESH-INTERVAL:P3D
CALSCALE:GREGORIAN
BEGIN:VEVENT
DTSTART:20220122T160000Z
DTEND:20220122T230000Z
X-MICROSOFT-CDO-ALLDAYEVENT:FALSE
SUMMARY:DIgital Photography Workshop
DESCRIPTION:Woody Walters is going to show you the basics of Photoshop and how to improve your photographs. Students must bring their own laptop with Photoshop installed. Register at CFAC\, space limited to 15 students.
X-ALT-DESC;FMTTYPE=text/html:Woody Walters is going to show you the basics of Photoshop and how to improve your photographs. Students must bring their own laptop with Photoshop installed. Register at CFAC\, space limited to 15 students.
LOCATION:Community Fine Arts Center 400 C Street Rock Springs
UID:e.796.45663
SEQUENCE:3
DTSTAMP:20260423T062244Z
URL:http://business.grchamber.com/events/details/digital-photography-workshop-45663
END:VEVENT

END:VCALENDAR
