BEGIN:VCALENDAR
VERSION:2.0
PRODID:-//ChamberMaster//Event Calendar 2.0//EN
METHOD:PUBLISH
X-PUBLISHED-TTL:P3D
REFRESH-INTERVAL:P3D
CALSCALE:GREGORIAN
BEGIN:VEVENT
DTSTART:20251206T160000Z
DTEND:20251206T230000Z
X-MICROSOFT-CDO-ALLDAYEVENT:FALSE
SUMMARY:Charity Shoot-White Mountain Archers
DESCRIPTION:White Mountain Archers Charity Shoot\n\nProceeds will be donated to a local charity.
X-ALT-DESC;FMTTYPE=text/html:White Mountain Archers Charity Shoot<br />\nProceeds will be donated to a local charity.
LOCATION:The Big Red Barn at Scotts Bottom FMC Park (175 Scotts Bottom Road) Green River\, WY
UID:e.796.49566
SEQUENCE:3
DTSTAMP:20260425T203114Z
URL:http://business.grchamber.com/events/details/charity-shoot-white-mountain-archers-49566
END:VEVENT

END:VCALENDAR
