BEGIN:VCALENDAR
VERSION:2.0
PRODID:-//ChamberMaster//Event Calendar 2.0//EN
METHOD:PUBLISH
X-PUBLISHED-TTL:P3D
REFRESH-INTERVAL:P3D
CALSCALE:GREGORIAN
BEGIN:VEVENT
DTSTART:20241023T170000Z
DTEND:20241023T183000Z
X-MICROSOFT-CDO-ALLDAYEVENT:FALSE
SUMMARY:Business Development Training: AI training for small business
DESCRIPTION:We are thrilled to offer you a unique opportunity to transform your business with the power of Artificial Intelligence!\n\nJoin us Wednesday October 23rd 11am MST - Either in person at The Green River Chamber OR Online for a 90-minute webinar crafted specifically for small business owners. \n\n You'll learn how to use AI within your business to:\n\n-Save time\n\n-Boost Productivity\n\n-Enhance Creativity\n\n\n\nWhether you join us live ( at The Chamber) or watch on-demand\, Don't miss out on this member only benefit that's designed to give you a competitive edge.\n\n(An email link will be sent for those wanting to watch on-demand)
X-ALT-DESC;FMTTYPE=text/html:We are thrilled to offer you a unique opportunity to transform your business with the power of Artificial Intelligence!<br />\nJoin us Wednesday October 23rd 11am MST - Either in person at The Green River Chamber OR Online for a 90-minute webinar crafted specifically for small business owners.&nbsp\;<br />\n&nbsp\;You&#39\;ll learn how to use AI within your business to:<br />\n-Save time<br />\n-Boost Productivity<br />\n-Enhance Creativity<br />\n<br />\nWhether you join us live ( at The Chamber) or watch on-demand\, Don&#39\;t miss out on this member only benefit that&#39\;s designed to give you a competitive edge.<br />\n(An email link will be sent for those wanting to watch on-demand)
LOCATION:In person at The Green River Chamber (limited seating) OR Online Webinar
UID:e.796.49371
SEQUENCE:3
DTSTAMP:20260420T145843Z
URL:http://business.grchamber.com/events/details/business-development-training-ai-training-for-small-business-49371
END:VEVENT

END:VCALENDAR
