BEGIN:VCALENDAR
VERSION:2.0
PRODID:-//ChamberMaster//Event Calendar 2.0//EN
METHOD:PUBLISH
X-PUBLISHED-TTL:P3D
REFRESH-INTERVAL:P3D
CALSCALE:GREGORIAN
BEGIN:VEVENT
DTSTART:20111019T230000Z
DTEND:20111020T010000Z
X-MICROSOFT-CDO-ALLDAYEVENT:FALSE
SUMMARY:Business After Hours
DESCRIPTION:Business After Hours - 5:00 - 7:00p.m.\n\n\n\nSweetwater County Events Complex\n\n3320 Yellowstone Rd.\n\nRock Springs\, WY.
X-ALT-DESC;FMTTYPE=text/html:Business After Hours - 5:00 - 7:00p.m.<br />\n<br />\nSweetwater County Events Complex<br />\n3320 Yellowstone Rd.<br />\nRock Springs\, WY.
LOCATION:Sweetwater County Events Complex 3320 Yellowstone Rd. Rock Springs\, WY.
UID:e.796.665
SEQUENCE:3
DTSTAMP:20260424T112222Z
URL:http://business.grchamber.com/events/details/business-after-hours-10-19-2011-665
END:VEVENT

END:VCALENDAR
