BEGIN:VCALENDAR
VERSION:2.0
PRODID:-//ChamberMaster//Event Calendar 2.0//EN
METHOD:PUBLISH
X-PUBLISHED-TTL:P3D
REFRESH-INTERVAL:P3D
CALSCALE:GREGORIAN
BEGIN:VEVENT
DTSTART:20260221T200000Z
DTEND:20260221T230000Z
X-MICROSOFT-CDO-ALLDAYEVENT:FALSE
SUMMARY:Annual Rib Cook Off-White Mountain Archers
DESCRIPTION:White Mountain Archers Annual Rib Cook Off\n\nThink you have the best ribs! Now is your chance to prove it!\n\n*Prizes for 1st and 2nd place \n\n*Entries must be at the barn by 1:30pm\n\n*Judging starts at 2:00pm
X-ALT-DESC;FMTTYPE=text/html:White Mountain Archers Annual Rib Cook Off<br />\nThink you have the best ribs! Now is your chance to prove it!<br />\n*Prizes for 1st and 2nd place&nbsp\;<br />\n*Entries must be at the barn by 1:30pm<br />\n*Judging starts at 2:00pm<br />\n&nbsp\;
LOCATION:The Big Red Barn at Scotts Bottom FMC Park (175 Scotts Bottom Road) Green River\, WY
UID:e.796.49568
SEQUENCE:3
DTSTAMP:20260425T134641Z
URL:http://business.grchamber.com/events/details/annual-rib-cook-off-white-mountain-archers-49568
END:VEVENT

END:VCALENDAR
