BEGIN:VCALENDAR
VERSION:2.0
PRODID:-//ChamberMaster//Event Calendar 2.0//EN
METHOD:PUBLISH
X-PUBLISHED-TTL:P3D
REFRESH-INTERVAL:P3D
CALSCALE:GREGORIAN
BEGIN:VEVENT
DTSTART:20251119T190000Z
DTEND:20251119T200000Z
X-MICROSOFT-CDO-ALLDAYEVENT:FALSE
SUMMARY:2025 November Lunch and Learn
DESCRIPTION:Green River Chamber November Lunch and Learn \n\nPresenting will be Dr. Young with Western Wyoming Community College
X-ALT-DESC;FMTTYPE=text/html:Green River Chamber November Lunch and Learn&nbsp\;<br />\nPresenting will be Dr. Young with Western Wyoming Community College
LOCATION:Hampton Inn by Hilton 1055 Wild Horse Canyon Rd Green River Wyoming
UID:e.796.49403
SEQUENCE:3
DTSTAMP:20260425T202947Z
URL:http://business.grchamber.com/events/details/2025-november-lunch-and-learn-49403
END:VEVENT

END:VCALENDAR
