BEGIN:VCALENDAR
VERSION:2.0
PRODID:-//ChamberMaster//Event Calendar 2.0//EN
METHOD:PUBLISH
X-PUBLISHED-TTL:P3D
REFRESH-INTERVAL:P3D
CALSCALE:GREGORIAN
BEGIN:VEVENT
DTSTART:20230819T180000Z
DTEND:20230819T190000Z
X-MICROSOFT-CDO-ALLDAYEVENT:FALSE
SUMMARY:2023 The Great Duck Race
DESCRIPTION:Happening at the Expedition Island during River Festival.  This race is fun and exciting as you purchase tickets in advance at the Green River Chamber to win cash prizes of $500 for 1st place\, $250 for second place\, and $100 for 3rd place.  These rubber ducks are placed in the river\, and float down to the finish line! The best part is you don't have to be present to win\, the Green River Chamber will contact you if you win and you are not present.
X-ALT-DESC;FMTTYPE=text/html:<span style="font-size:14.0pt\;">Happening at the Expedition Island during River Festival.&nbsp\; This race is fun and exciting as you purchase tickets in advance at the Green River Chamber to win cash prizes of $500 for 1<sup>st</sup> place\, $250 for second place\, and $100 for 3<sup>rd</sup> place.&nbsp\; These rubber ducks are placed in the river\, and float down to the finish line! The best part is you don&rsquo\;t have to be present to win\, the Green River Chamber will contact you if you win and you are not present.</span>
LOCATION:Expedition Island
UID:e.796.46824
SEQUENCE:3
DTSTAMP:20260421T205628Z
URL:http://business.grchamber.com/events/details/2023-the-great-duck-race-46824
END:VEVENT

END:VCALENDAR
